BEGIN:VCALENDAR
VERSION:2.0
PRODID:-//Innovation Hub - ECPv6.7.0//NONSGML v1.0//EN
CALSCALE:GREGORIAN
METHOD:PUBLISH
X-ORIGINAL-URL:https://innovationhub.confindustria.it
X-WR-CALDESC:Eventi per Innovation Hub
REFRESH-INTERVAL;VALUE=DURATION:PT1H
X-Robots-Tag:noindex
X-PUBLISHED-TTL:PT1H
BEGIN:VTIMEZONE
TZID:Europe/Rome
BEGIN:DAYLIGHT
TZOFFSETFROM:+0100
TZOFFSETTO:+0200
TZNAME:CEST
DTSTART:20250330T010000
END:DAYLIGHT
BEGIN:STANDARD
TZOFFSETFROM:+0200
TZOFFSETTO:+0100
TZNAME:CET
DTSTART:20251026T010000
END:STANDARD
END:VTIMEZONE
BEGIN:VEVENT
DTSTART;TZID=Europe/Rome:20250404T143000
DTEND;TZID=Europe/Rome:20250404T173000
DTSTAMP:20260420T095144
CREATED:20250401T170217Z
LAST-MODIFIED:20250402T120852Z
UID:10000007-1743777000-1743787800@innovationhub.confindustria.it
SUMMARY:Roadshow PMI sulla Cybersicurezza delle aziende italiane\, iniziativa promossa da ACN con Confindustria e la rete dei Digital Innovation Hub
DESCRIPTION:L’Agenzia per la Cybersicurezza Nazionale\, insieme a Confindustria Toscana e al Digital Innovation Hub Toscana organizzano l’evento \n\n\n\n\nAccendiamo la cybersicurezza\nProteggiamo le nostre imprese \n\n\n  \nL’incontro è il 4° appuntamento della campagna nazionale promossa da ACN e dal Dipartimento per l’Informazione e l’Editoria della Presidenza del Consiglio dei Ministri\, con l’obiettivo di rafforzare la sicurezza digitale delle PMI italiane\, e rientra tra le iniziative istituzionali ufficiali della Giornata Nazionale del Made in Italy\, una ricorrenza per valorizzare e promuovere l’eccellenza italiana. Per tale circostanza\, i lavori del convegno organizzato da Acn avranno come focus tematico la “Cybersicurezza a tutela del Made in Italy”. \nGli eventi sono realizzati in collaborazione con Confindustria e la rete dei Digital Innovation Hub. \nApriranno i lavori il Presidente di Confindustria Toscana e Confindustria Toscana Centro e Costa Maurizio Bigazzi\, insieme al Presidente del Digital Innovation Hub Toscana Fabrizio Bernini. \nSeguiranno gli interventi di:\n•    Nunzia Ciardi\, Vice Direttore Generale di ACN;\n•    Claudio Ciccotelli\, Capo Divisione Perimetro di Sicurezza Nazionale Cibernetica;\n•    Riccardo Santini\, Vice Capo Divisione Gestione Rischio Nazionale\, Capacità Cyber e Collaborazioni;\n•    Valentina Lo Voi\, Vice Capo Divisione Consapevolezza. \nChiude i lavori Gianluca Vannuccini\, Direttore della Direzione Sistemi Informativi\, infrastrutture tecnologiche e innovazione\, Regione Toscana \nSeguirà una sessione di domande e risposte. \nScarica il Programma.  \nLa partecipazione è gratuita\, per iscriverti clicca qui.
URL:https://innovationhub.confindustria.it/evento/4-tappa-del-roadshow-pmi-sulla-cybersicurezza-delle-aziende-italiane-iniziativa-promossa-da-acn-con-confindustria-e-la-rete-dei-digital-innovation-hub/
LOCATION:Palazzo degli Affari\, Piazza Adua\, 1\, 50123 Firenze FI\, Firenze\, Italy
ATTACH;FMTTYPE=image/png:https://innovationhub.confindustria.it/wp-content/uploads/2025/04/cover.png
END:VEVENT
END:VCALENDAR